BEGIN:VCALENDAR
VERSION:2.0
PRODID:-//Plone.org//NONSGML plone.app.event//EN
X-WR-TIMEZONE:US/Eastern
BEGIN:VEVENT
SUMMARY:Lego Club
DTSTART;TZID=US/Eastern:20260421T160000
DTEND;TZID=US/Eastern:20260421T170000
DTSTAMP:20260421T052737Z
UID:fe027bf743704ea89a1a6d59547681e8@saas_stack_varnish:6080
RRULE:FREQ=MONTHLY;UNTIL=20260519T000000;BYDAY=+3TU
EXDATE;TZID=US/Eastern:20250617T000000,20250715T000000,20250819T000000
CONTACT:Desirae Salswedel\, (810) 798-3100\, dsalswedel@adlmi.org
CREATED:20241016T165741Z
DESCRIPTION:Love being creative & building new things? We have the club fo
 r you!
LAST-MODIFIED:20250821T164336Z
LOCATION:Almont District Library
URL:https://www.adlmi.org/news-events/lego-club-1
END:VEVENT
BEGIN:VEVENT
SUMMARY:Fiction Addiction Book Club
DTSTART;TZID=US/Eastern:20260421T180000
DTSTAMP:20260421T052737Z
UID:28890d7beb8643988c81dd4fd9bc50bb@saas_stack_varnish:6080
CONTACT:Lorie Rohde\, (810) 798-3100\, adllibrarymail@gmail.com
CREATED:20260106T205636Z
DESCRIPTION:Can't get enough fiction? Neither can we!
LAST-MODIFIED:20260409T185542Z
LOCATION:Almont District Library
URL:https://www.adlmi.org/news-events/copy3_of_fiction-addiction-book-club
 -16
END:VEVENT
BEGIN:VTIMEZONE
TZID:US/Eastern
X-LIC-LOCATION:US/Eastern
BEGIN:DAYLIGHT
DTSTART:20260308T030000
TZNAME:EDT
TZOFFSETFROM:-0500
TZOFFSETTO:-0400
END:DAYLIGHT
END:VTIMEZONE
END:VCALENDAR
