BEGIN:VCALENDAR
VERSION:2.0
PRODID:-//Plone.org//NONSGML plone.app.event//EN
X-WR-TIMEZONE:US/Eastern
BEGIN:VEVENT
SUMMARY:Board Meeting
DTSTART;TZID=US/Eastern:20230214T180000
DTSTAMP:20260424T120946Z
UID:d41e2d06f9a346cd9a5afa2d67486a91@saas_stack_varnish:6080
CONTACT:Kay Hurd\, (810) 798-3100\, adllibrarymail@gmail.com
CREATED:20221117T200745Z
DESCRIPTION:The Almont District Library Board of Trustees will meet today 
 at 6 p.m. The meetings are held at the library and open to the public.
LAST-MODIFIED:20221117T200751Z
LOCATION:Almont District Library
URL:https://www.adlmi.org/board-meeting-2
END:VEVENT
BEGIN:VTIMEZONE
TZID:US/Eastern
X-LIC-LOCATION:US/Eastern
BEGIN:STANDARD
DTSTART:20221106T010000
TZNAME:EST
TZOFFSETFROM:-0400
TZOFFSETTO:-0500
END:STANDARD
END:VTIMEZONE
END:VCALENDAR
