BEGIN:VCALENDAR
VERSION:2.0
PRODID:-//Plone.org//NONSGML plone.app.event//EN
X-WR-TIMEZONE:US/Eastern
BEGIN:VEVENT
SUMMARY:Fourth of July Holiday
DTSTART;VALUE=DATE:20170704
DTEND;VALUE=DATE:20170705
DTSTAMP:20260422T074051Z
UID:84e93865d3114894b7d374624ecb652a@saas_stack_varnish:6080
CONTACT:Kay Hurd\, 810-798-3100\, director@adlmi.org
CREATED:20170118T170417Z
DESCRIPTION:Almont District Library will be closed Tuesday July 4\, 2017 i
 n observance of the Fourth of July Holiday
LAST-MODIFIED:20170118T170504Z
LOCATION:Almont District Library
URL:https://www.adlmi.org/fourth-of-july-holdiay
END:VEVENT
END:VCALENDAR
