BEGIN:VCALENDAR
VERSION:2.0
PRODID:-//Plone.org//NONSGML plone.app.event//EN
X-WR-TIMEZONE:US/Eastern
BEGIN:VEVENT
SUMMARY:Library Budget Meeting
DTSTART;TZID=US/Eastern:20221115T180000
DTEND;TZID=US/Eastern:20221115T193000
DTSTAMP:20260422T104116Z
UID:57f66678343145d38f184ae474a2da1f@saas_stack_varnish:6080
CONTACT:Kay Hurd\, 18107983100\, director@adlmi.org
CREATED:20211117T215117Z
DESCRIPTION:The budget meeting will be held at 6:00 pm on the third Tuesda
 y in November. The meetings are held at the library and are open to the pu
 blic.
LAST-MODIFIED:20211214T190235Z
LOCATION:Historical Room at the Almont District Library
URL:https://www.adlmi.org/library-budget-meeting
END:VEVENT
BEGIN:VTIMEZONE
TZID:US/Eastern
X-LIC-LOCATION:US/Eastern
BEGIN:STANDARD
DTSTART:20221106T010000
TZNAME:EST
TZOFFSETFROM:-0400
TZOFFSETTO:-0500
END:STANDARD
END:VTIMEZONE
END:VCALENDAR
