BEGIN:VCALENDAR
VERSION:2.0
PRODID:-//Plone.org//NONSGML plone.app.event//EN
X-WR-TIMEZONE:US/Eastern
BEGIN:VEVENT
SUMMARY:Memorial Day Holiday
DTSTART;TZID=US/Eastern:20170527T100000
DTEND;TZID=US/Eastern:20170529T200000
DTSTAMP:20260422T071015Z
UID:825d6c3519cd4c6cb565d01d090b4dc8@saas_stack_varnish:6080
CONTACT:Kay Hurd\, 810-798-3100\, director@adlmi.org
CREATED:20170118T170157Z
DESCRIPTION:Almont District Library will be closed Saturday May 27\, 2017 
 and Monday May 29\, 2017 in observance of Memorial Day
LAST-MODIFIED:20170118T170203Z
LOCATION:Almont District Library
URL:https://www.adlmi.org/memorial-day-holiday
END:VEVENT
BEGIN:VTIMEZONE
TZID:US/Eastern
X-LIC-LOCATION:US/Eastern
BEGIN:DAYLIGHT
DTSTART:20170312T030000
TZNAME:EDT
TZOFFSETFROM:-0500
TZOFFSETTO:-0400
END:DAYLIGHT
END:VTIMEZONE
END:VCALENDAR
