BEGIN:VCALENDAR
VERSION:2.0
PRODID:-//Plone.org//NONSGML plone.app.event//EN
X-WR-TIMEZONE:US/Eastern
BEGIN:VEVENT
SUMMARY:Board Meeting
DTSTART;TZID=US/Eastern:20241217T180000
DTSTAMP:20260422T131700Z
UID:876a1ebb07f0472fae852b35f07dc475@saas_stack_varnish:6080
RRULE:FREQ=MONTHLY;COUNT=12;BYDAY=+2TU
EXDATE;TZID=US/Eastern:20250708T000000,20251209T000000
CONTACT:Kay Hurd\, (810) 798-3100\, adllibrarymail@gmail.com
CREATED:20241115T205835Z
DESCRIPTION:The Almont District Library Board of Trustees will meet the se
 cond Tuesday of each month (excluding July) at 6 p.m. The meetings are hel
 d at the library and open to the public. The November 11 meeting is the bu
 dget meeting.
LAST-MODIFIED:20241209T212840Z
LOCATION:Almont District Library
URL:https://www.adlmi.org/news-events/board-meeting-1
END:VEVENT
BEGIN:VTIMEZONE
TZID:US/Eastern
X-LIC-LOCATION:US/Eastern
BEGIN:STANDARD
DTSTART:20241103T010000
TZNAME:EST
TZOFFSETFROM:-0400
TZOFFSETTO:-0500
END:STANDARD
END:VTIMEZONE
END:VCALENDAR
