BEGIN:VCALENDAR
VERSION:2.0
PRODID:-//Plone.org//NONSGML plone.app.event//EN
X-WR-TIMEZONE:US/Eastern
BEGIN:VEVENT
SUMMARY:Button Heart Valentine Kids Craft Class
DTSTART;TZID=US/Eastern:20260206T160000
DTSTAMP:20260422T074408Z
UID:204633dc5f4244968f962830b4337395@saas_stack_varnish:6080
CONTACT:Desirae Salswedel\, (810) 798-3100\, dsalswedel@adlmi.org
CREATED:20260121T161813Z
DESCRIPTION:Perfect for Valentine’s Day\, learn to make a heart sign usi
 ng buttons & other repurposed materials!
LAST-MODIFIED:20260121T161829Z
LOCATION:Almont District Library
URL:https://www.adlmi.org/news-events/button-heart-valentine-kids-craft-cl
 ass
END:VEVENT
BEGIN:VTIMEZONE
TZID:US/Eastern
X-LIC-LOCATION:US/Eastern
BEGIN:STANDARD
DTSTART:20251102T010000
TZNAME:EST
TZOFFSETFROM:-0400
TZOFFSETTO:-0500
END:STANDARD
END:VTIMEZONE
END:VCALENDAR
