BEGIN:VCALENDAR
VERSION:2.0
PRODID:-//Plone.org//NONSGML plone.app.event//EN
X-WR-TIMEZONE:US/Eastern
BEGIN:VEVENT
SUMMARY:Closed for Christmas
DTSTART;VALUE=DATE:20251224
DTEND;VALUE=DATE:20251228
DTSTAMP:20260422T070827Z
UID:f257d34350644e8c89f087d19819a12a@saas_stack_varnish:6080
CONTACT:(810) 798-3100
CREATED:20251117T174336Z
DESCRIPTION:The Almont District Library will be closed from Dec. 24 to Dec
 . 27 for Christmas.
LAST-MODIFIED:20251117T174624Z
LOCATION:Almont District Library
URL:https://www.adlmi.org/news-events/closed-for-christmas-2
END:VEVENT
END:VCALENDAR
