BEGIN:VCALENDAR
VERSION:2.0
PRODID:-//Plone.org//NONSGML plone.app.event//EN
X-WR-TIMEZONE:US/Eastern
BEGIN:VEVENT
SUMMARY:Closed for New Years
DTSTART;VALUE=DATE:20251231
DTEND;VALUE=DATE:20260102
DTSTAMP:20260422T071154Z
UID:c96c483a9a4344dc9cf3d7aca669322e@saas_stack_varnish:6080
CONTACT:(810) 798-3100\, adllibrarymail@gmail.com
CREATED:20251117T174536Z
DESCRIPTION:The Almont District Library will be closed Dec. 31 and Jan. 1 
 for New Years.
LAST-MODIFIED:20251117T174548Z
LOCATION:Almont District Library
URL:https://www.adlmi.org/news-events/closed-for-new-years-3
END:VEVENT
END:VCALENDAR
