BEGIN:VCALENDAR
VERSION:2.0
PRODID:-//Plone.org//NONSGML plone.app.event//EN
X-WR-TIMEZONE:US/Eastern
BEGIN:VEVENT
SUMMARY:Cookbook Club
DTSTART;TZID=US/Eastern:20251117T160000
DTSTAMP:20260422T072748Z
UID:9a6f6d16bf5f4323b34614b5562df2d0@saas_stack_varnish:6080
CONTACT:Lorie Rohde\, (810) 798-3100\, adllibrarymail@gmail.com
CREATED:20251105T184629Z
DESCRIPTION:Calling all foodies and cookbook collectors! Join us for our C
 ookbook Club!
LAST-MODIFIED:20251105T184647Z
LOCATION:Almont District Library
URL:https://www.adlmi.org/news-events/cookbook-club-11
END:VEVENT
BEGIN:VTIMEZONE
TZID:US/Eastern
X-LIC-LOCATION:US/Eastern
BEGIN:STANDARD
DTSTART:20251102T010000
TZNAME:EST
TZOFFSETFROM:-0400
TZOFFSETTO:-0500
END:STANDARD
END:VTIMEZONE
END:VCALENDAR
