BEGIN:VCALENDAR
VERSION:2.0
PRODID:-//Plone.org//NONSGML plone.app.event//EN
X-WR-TIMEZONE:US/Eastern
BEGIN:VEVENT
SUMMARY:Cookbook Club
DTSTART;TZID=US/Eastern:20250630T160000
DTSTAMP:20260422T090608Z
UID:5b8f7187884d4a33a27cdf766ab6e8e2@saas_stack_varnish:6080
CONTACT:Lorie Rohde\, (810) 798-3100\, adllibrarymail@gmail.com
CREATED:20250602T163722Z
DESCRIPTION:Calling all foodies and cookbook collectors! Join us for our C
 ookbook Club!
LAST-MODIFIED:20250602T163926Z
LOCATION:Almont District Library
URL:https://www.adlmi.org/news-events/cookbook-club-6
END:VEVENT
BEGIN:VTIMEZONE
TZID:US/Eastern
X-LIC-LOCATION:US/Eastern
BEGIN:DAYLIGHT
DTSTART:20250309T030000
TZNAME:EDT
TZOFFSETFROM:-0500
TZOFFSETTO:-0400
END:DAYLIGHT
END:VTIMEZONE
END:VCALENDAR
