BEGIN:VCALENDAR
VERSION:2.0
PRODID:-//Plone.org//NONSGML plone.app.event//EN
X-WR-TIMEZONE:US/Eastern
BEGIN:VEVENT
SUMMARY:Cooking Through the Decades Cookbook Club
DTSTART;TZID=US/Eastern:20240729T160000
DTSTAMP:20260422T150613Z
UID:611ac3fa8fbb496c852a1c89c3c882ba@saas_stack_varnish:6080
CONTACT:Lorie Rohde\, (810) 798-3100\, adllibrarymail@gmail.com
CREATED:20240506T183811Z
DESCRIPTION:Calling all foodies and cookbook collectors! Join us for our  
 Cooking Through the Decades Cookbook Club!
LAST-MODIFIED:20240528T224321Z
LOCATION:Almont District Library
URL:https://www.adlmi.org/news-events/cooking-through-the-decades-cookbook
 -club-4
END:VEVENT
BEGIN:VTIMEZONE
TZID:US/Eastern
X-LIC-LOCATION:US/Eastern
BEGIN:DAYLIGHT
DTSTART:20240310T030000
TZNAME:EDT
TZOFFSETFROM:-0500
TZOFFSETTO:-0400
END:DAYLIGHT
END:VTIMEZONE
END:VCALENDAR
