BEGIN:VCALENDAR
VERSION:2.0
PRODID:-//Plone.org//NONSGML plone.app.event//EN
X-WR-TIMEZONE:US/Eastern
BEGIN:VEVENT
SUMMARY:Craft Class with Renia Pierog
DTSTART;TZID=US/Eastern:20230225T120000
DTEND;TZID=US/Eastern:20230225T140000
DTSTAMP:20260424T120946Z
UID:5220e04a021b40efa009a2cda604a3a5@saas_stack_varnish:6080
CONTACT:Lorie Rohde\, (810) 798-3100\, adllibrarymail@gmail.com
CREATED:20230206T172322Z
DESCRIPTION:Brighten up your February at our Craft Class! Ages 13 & up. Re
 gistration required - Waitlist only
LAST-MODIFIED:20230221T224300Z
LOCATION:Almont District Library
URL:https://www.adlmi.org/news-events/craft-class-with-renia-pierog
END:VEVENT
BEGIN:VTIMEZONE
TZID:US/Eastern
X-LIC-LOCATION:US/Eastern
BEGIN:STANDARD
DTSTART:20221106T010000
TZNAME:EST
TZOFFSETFROM:-0400
TZOFFSETTO:-0500
END:STANDARD
END:VTIMEZONE
END:VCALENDAR
