BEGIN:VCALENDAR
VERSION:2.0
PRODID:-//Plone.org//NONSGML plone.app.event//EN
X-WR-TIMEZONE:US/Eastern
BEGIN:VEVENT
SUMMARY:Dead on the First Page Murder Mystery Book Club
DTSTART;TZID=US/Eastern:20230206T190000
DTSTAMP:20260422T125406Z
UID:ce158a3e0ed942ccb6ff610d123500b2@saas_stack_varnish:6080
RRULE:FREQ=WEEKLY;COUNT=3;BYDAY=MO
EXDATE;TZID=US/Eastern:20230213T000000
CONTACT:Lorie Rohde\, (810) 798-3100
CREATED:20230201T224050Z
DESCRIPTION:Join the Dead on the First Page Murder Mystery Book Club!
LAST-MODIFIED:20230206T171637Z
LOCATION:Almont District Library
URL:https://www.adlmi.org/news-events/dead-on-the-first-page-murder-myster
 y-book-club-1
END:VEVENT
BEGIN:VTIMEZONE
TZID:US/Eastern
X-LIC-LOCATION:US/Eastern
BEGIN:STANDARD
DTSTART:20221106T010000
TZNAME:EST
TZOFFSETFROM:-0400
TZOFFSETTO:-0500
END:STANDARD
END:VTIMEZONE
END:VCALENDAR
