BEGIN:VCALENDAR
VERSION:2.0
PRODID:-//Plone.org//NONSGML plone.app.event//EN
X-WR-TIMEZONE:US/Eastern
BEGIN:VEVENT
SUMMARY:Dead on the First Page Murder Mystery Book Club
DTSTART;TZID=US/Eastern:20230109T190000
DTSTAMP:20260422T115618Z
UID:98ea4f19e7af4bb8bf0adf49fd125901@saas_stack_varnish:6080
CONTACT:Lorie Rohde\, 810-798-3100\, adllibrarymail@gmail.com
CREATED:20221013T193831Z
DESCRIPTION:Join the Dead on the First Page Murder Mystery Book Club!
LAST-MODIFIED:20221219T175343Z
LOCATION:Almont District Library
URL:https://www.adlmi.org/news-events/dead-on-the-first-page-murder-myster
 y-book-club
END:VEVENT
BEGIN:VTIMEZONE
TZID:US/Eastern
X-LIC-LOCATION:US/Eastern
BEGIN:STANDARD
DTSTART:20221106T010000
TZNAME:EST
TZOFFSETFROM:-0400
TZOFFSETTO:-0500
END:STANDARD
END:VTIMEZONE
END:VCALENDAR
