BEGIN:VCALENDAR
VERSION:2.0
PRODID:-//Plone.org//NONSGML plone.app.event//EN
X-WR-TIMEZONE:US/Eastern
BEGIN:VEVENT
SUMMARY:End of Summer Reading Party
DTSTART;TZID=US/Eastern:20230802T110000
DTEND;TZID=US/Eastern:20230802T130000
DTSTAMP:20260422T155438Z
UID:9b2ad267d53f422dbd49e623799fa5be@saas_stack_varnish:6080
CONTACT:Desirae Salswedel\, (810) 798-3100\, dsalswedel@adlmi.org
CREATED:20230726T205109Z
DESCRIPTION:Celebrate the end of the Summer Reading Program with us!
LAST-MODIFIED:20230726T205247Z
LOCATION:Almont District Library
URL:https://www.adlmi.org/news-events/end-of-summer-reading-party
END:VEVENT
BEGIN:VTIMEZONE
TZID:US/Eastern
X-LIC-LOCATION:US/Eastern
BEGIN:DAYLIGHT
DTSTART:20230312T030000
TZNAME:EDT
TZOFFSETFROM:-0500
TZOFFSETTO:-0400
END:DAYLIGHT
END:VTIMEZONE
END:VCALENDAR
