BEGIN:VCALENDAR
VERSION:2.0
PRODID:-//Plone.org//NONSGML plone.app.event//EN
X-WR-TIMEZONE:US/Eastern
BEGIN:VEVENT
SUMMARY:Fiction Addiction Book Club
DTSTART;TZID=US/Eastern:20251215T190000
DTSTAMP:20260422T072615Z
UID:b84f31b0d207442ca27c07e7b064cd00@saas_stack_varnish:6080
CONTACT:Lorie Rohde\, (810) 798-3100
CREATED:20251122T173731Z
DESCRIPTION:Can't get enough fiction? Neither can we!
LAST-MODIFIED:20251122T173745Z
LOCATION:Almont District Library
URL:https://www.adlmi.org/news-events/fiction-addiction-book-club-15
END:VEVENT
BEGIN:VTIMEZONE
TZID:US/Eastern
X-LIC-LOCATION:US/Eastern
BEGIN:STANDARD
DTSTART:20251102T010000
TZNAME:EST
TZOFFSETFROM:-0400
TZOFFSETTO:-0500
END:STANDARD
END:VTIMEZONE
END:VCALENDAR
