BEGIN:VCALENDAR
VERSION:2.0
PRODID:-//Plone.org//NONSGML plone.app.event//EN
X-WR-TIMEZONE:US/Eastern
BEGIN:VEVENT
SUMMARY:Fiction Addiction Book Club
DTSTART;TZID=US/Eastern:20250616T180000
DTSTAMP:20260422T085838Z
UID:ea6b005f65da4259b35f8149f964b5a4@saas_stack_varnish:6080
CONTACT:Lorie Rohde\, (810) 798-3100\, adllibrarymail@gmail.com
CREATED:20250513T184358Z
DESCRIPTION:Can't get enough fiction? Neither can we!
LAST-MODIFIED:20250513T184435Z
LOCATION:Almont District Library
URL:https://www.adlmi.org/news-events/fiction-addiction-book-club-9
END:VEVENT
BEGIN:VTIMEZONE
TZID:US/Eastern
X-LIC-LOCATION:US/Eastern
BEGIN:DAYLIGHT
DTSTART:20250309T030000
TZNAME:EDT
TZOFFSETFROM:-0500
TZOFFSETTO:-0400
END:DAYLIGHT
END:VTIMEZONE
END:VCALENDAR
