BEGIN:VCALENDAR
VERSION:2.0
PRODID:-//Plone.org//NONSGML plone.app.event//EN
X-WR-TIMEZONE:US/Eastern
BEGIN:VEVENT
SUMMARY:Knitting Club
DTSTART;TZID=US/Eastern:20230920T180000
DTSTAMP:20260421T162853Z
UID:12c73b379fd04bd6b5c8cfcefe1c1a1a@saas_stack_varnish:6080
RRULE:FREQ=WEEKLY;UNTIL=20240529T000000;BYDAY=WE
EXDATE;TZID=US/Eastern:20240214T000000
CONTACT:(810) 798-3100
CREATED:20230908T200135Z
DESCRIPTION:Join the Knitting Club every Wednesday night!
LAST-MODIFIED:20241023T184120Z
LOCATION:Almont District Library
URL:https://www.adlmi.org/news-events/knitting-club-2
END:VEVENT
BEGIN:VTIMEZONE
TZID:US/Eastern
X-LIC-LOCATION:US/Eastern
BEGIN:DAYLIGHT
DTSTART:20230312T030000
TZNAME:EDT
TZOFFSETFROM:-0500
TZOFFSETTO:-0400
END:DAYLIGHT
END:VTIMEZONE
END:VCALENDAR
