BEGIN:VCALENDAR
VERSION:2.0
PRODID:-//Plone.org//NONSGML plone.app.event//EN
X-WR-TIMEZONE:US/Eastern
BEGIN:VEVENT
SUMMARY:Knitting Club
DTSTART;TZID=US/Eastern:20230111T180000
DTEND;TZID=US/Eastern:20230111T200000
DTSTAMP:20260422T120332Z
UID:2996da00caa34ce2ab9424a82b493422@saas_stack_varnish:6080
CONTACT:810-798-3100\, adllibrarymail@gmail.com
CREATED:20221013T193018Z
DESCRIPTION:Join the Knitting Club every Wednesday night!
LAST-MODIFIED:20230222T161245Z
LOCATION:Almont District Library
URL:https://www.adlmi.org/news-events/knitting-club/2023-01-11
END:VEVENT
BEGIN:VTIMEZONE
TZID:US/Eastern
X-LIC-LOCATION:US/Eastern
BEGIN:STANDARD
DTSTART:20221106T010000
TZNAME:EST
TZOFFSETFROM:-0400
TZOFFSETTO:-0500
END:STANDARD
END:VTIMEZONE
END:VCALENDAR
