BEGIN:VCALENDAR
VERSION:2.0
PRODID:-//Plone.org//NONSGML plone.app.event//EN
X-WR-TIMEZONE:US/Eastern
BEGIN:VEVENT
SUMMARY:Lego Club
DTSTART;TZID=US/Eastern:20250916T160000
DTEND;TZID=US/Eastern:20250916T170000
DTSTAMP:20260422T084332Z
UID:fe027bf743704ea89a1a6d59547681e8@saas_stack_varnish:6080
CONTACT:Desirae Salswedel\, (810) 798-3100\, dsalswedel@adlmi.org
CREATED:20241016T165741Z
DESCRIPTION:Love being creative & building new things? We have the club fo
 r you!
LAST-MODIFIED:20250821T164336Z
LOCATION:Almont District Library
URL:https://www.adlmi.org/news-events/lego-club-1/2025-09-16
END:VEVENT
BEGIN:VTIMEZONE
TZID:US/Eastern
X-LIC-LOCATION:US/Eastern
BEGIN:DAYLIGHT
DTSTART:20250309T030000
TZNAME:EDT
TZOFFSETFROM:-0500
TZOFFSETTO:-0400
END:DAYLIGHT
END:VTIMEZONE
END:VCALENDAR
