BEGIN:VCALENDAR
VERSION:2.0
PRODID:-//Plone.org//NONSGML plone.app.event//EN
X-WR-TIMEZONE:US/Eastern
BEGIN:VEVENT
SUMMARY:Lego Club
DTSTART;TZID=US/Eastern:20260120T160000
DTEND;TZID=US/Eastern:20260120T170000
DTSTAMP:20260422T071715Z
UID:fe027bf743704ea89a1a6d59547681e8@saas_stack_varnish:6080
CONTACT:Desirae Salswedel\, (810) 798-3100\, dsalswedel@adlmi.org
CREATED:20241016T165741Z
DESCRIPTION:Love being creative & building new things? We have the club fo
 r you!
LAST-MODIFIED:20250821T164336Z
LOCATION:Almont District Library
URL:https://www.adlmi.org/news-events/lego-club-1/2026-01-20
END:VEVENT
BEGIN:VTIMEZONE
TZID:US/Eastern
X-LIC-LOCATION:US/Eastern
BEGIN:STANDARD
DTSTART:20251102T010000
TZNAME:EST
TZOFFSETFROM:-0400
TZOFFSETTO:-0500
END:STANDARD
END:VTIMEZONE
END:VCALENDAR
