BEGIN:VCALENDAR
VERSION:2.0
PRODID:-//Plone.org//NONSGML plone.app.event//EN
X-WR-TIMEZONE:US/Eastern
BEGIN:VEVENT
SUMMARY:Love Grows Sign - Kids Craft Class
DTSTART;TZID=US/Eastern:20260501T160000
DTSTAMP:20260422T044449Z
UID:463b63d41b8347be94f79c49696c0c49@saas_stack_varnish:6080
CONTACT:Desirae Salswedel\, (810) 798-3100\, dsalswedel@adlmi.org
CREATED:20260421T174938Z
DESCRIPTION:Perfect for Mother's Day!
LAST-MODIFIED:20260421T174958Z
LOCATION:Almont District Library
URL:https://www.adlmi.org/news-events/love-grows-sign-kids-craft-class
END:VEVENT
BEGIN:VTIMEZONE
TZID:US/Eastern
X-LIC-LOCATION:US/Eastern
BEGIN:DAYLIGHT
DTSTART:20260308T030000
TZNAME:EDT
TZOFFSETFROM:-0500
TZOFFSETTO:-0400
END:DAYLIGHT
END:VTIMEZONE
END:VCALENDAR
