BEGIN:VCALENDAR
VERSION:2.0
PRODID:-//Plone.org//NONSGML plone.app.event//EN
X-WR-TIMEZONE:US/Eastern
BEGIN:VEVENT
SUMMARY:Movie Night - Puss in Boots: The Last Wish
DTSTART;TZID=US/Eastern:20230215T180000
DTSTAMP:20260424T120509Z
UID:048dde771033449190f645b1d6f5ddd5@saas_stack_varnish:6080
CONTACT:Alissa Hurd\, (810) 798-3100
CREATED:20230131T233406Z
DESCRIPTION:Enjoy an evening viewing of Puss in Boots: The Last Wish!
LAST-MODIFIED:20230131T233525Z
LOCATION:Almont District Library
URL:https://www.adlmi.org/news-events/movie-night-puss-in-boots-the-last-w
 ish
END:VEVENT
BEGIN:VTIMEZONE
TZID:US/Eastern
X-LIC-LOCATION:US/Eastern
BEGIN:STANDARD
DTSTART:20221106T010000
TZNAME:EST
TZOFFSETFROM:-0400
TZOFFSETTO:-0500
END:STANDARD
END:VTIMEZONE
END:VCALENDAR
