BEGIN:VCALENDAR
VERSION:2.0
PRODID:-//Plone.org//NONSGML plone.app.event//EN
X-WR-TIMEZONE:US/Eastern
BEGIN:VEVENT
SUMMARY:Smartphone Photography Class Sponsored by Randazzo Jeweler
DTSTART;TZID=US/Eastern:20250614T110000
DTEND;TZID=US/Eastern:20250614T123000
DTSTAMP:20260422T084135Z
UID:5b953b6300d24ce780c66444207fb71e@saas_stack_varnish:6080
CONTACT:Kathy Swanger\, (810) 798-3100\, kswanger@adlmi.org
CREATED:20250523T193358Z
DESCRIPTION:Learn how to take better photos with your smartphone! For Ages
  15+
LAST-MODIFIED:20250523T193626Z
LOCATION:Almont District Library
URL:https://www.adlmi.org/news-events/smartphone-photography-class-sponsor
 ed-by-randazzo-jeweler
END:VEVENT
BEGIN:VTIMEZONE
TZID:US/Eastern
X-LIC-LOCATION:US/Eastern
BEGIN:DAYLIGHT
DTSTART:20250309T030000
TZNAME:EDT
TZOFFSETFROM:-0500
TZOFFSETTO:-0400
END:DAYLIGHT
END:VTIMEZONE
END:VCALENDAR
