BEGIN:VCALENDAR
VERSION:2.0
PRODID:-//Plone.org//NONSGML plone.app.event//EN
X-WR-TIMEZONE:US/Eastern
BEGIN:VEVENT
SUMMARY:Spring Sign - Adult Craft Class
DTSTART;TZID=US/Eastern:20260502T103000
DTSTAMP:20260422T115919Z
UID:a4ad6a366ff6467098ea67816a6cd8a0@saas_stack_varnish:6080
CONTACT:Lorie Rohde\, (810) 798-3100\, adllibrarymail@gmail.com
CREATED:20260421T185040Z
LAST-MODIFIED:20260421T185141Z
LOCATION:Almont District Library
URL:https://www.adlmi.org/news-events/spring-sign-adult-craft-class
END:VEVENT
BEGIN:VTIMEZONE
TZID:US/Eastern
X-LIC-LOCATION:US/Eastern
BEGIN:DAYLIGHT
DTSTART:20260308T030000
TZNAME:EDT
TZOFFSETFROM:-0500
TZOFFSETTO:-0400
END:DAYLIGHT
END:VTIMEZONE
END:VCALENDAR
