BEGIN:VCALENDAR
VERSION:2.0
PRODID:-//Plone.org//NONSGML plone.app.event//EN
X-WR-TIMEZONE:US/Eastern
BEGIN:VEVENT
SUMMARY:Summer Reading Program Kickoff with Cameron Zvara
DTSTART;TZID=US/Eastern:20250618T123000
DTEND;TZID=US/Eastern:20250618T140000
DTSTAMP:20260422T084631Z
UID:b8fdcca266a646edbbcecbbf1f7bfec9@saas_stack_varnish:6080
CONTACT:Desirae Salswedel\, (810) 798-3100\, dsalswedel@adlmi.org
CREATED:20250515T151827Z
DESCRIPTION:Help us Color Our World! Meet the Almont District Library for 
 the Summer Reading Program Kickoff\, starring Cameron Zvara!
LAST-MODIFIED:20250515T153635Z
LOCATION:Almont Lions Hall (222 Water St.)
URL:https://www.adlmi.org/news-events/summer-reading-program-kickoff-with-
 cameron-zvara-1
END:VEVENT
BEGIN:VTIMEZONE
TZID:US/Eastern
X-LIC-LOCATION:US/Eastern
BEGIN:DAYLIGHT
DTSTART:20250309T030000
TZNAME:EDT
TZOFFSETFROM:-0500
TZOFFSETTO:-0400
END:DAYLIGHT
END:VTIMEZONE
END:VCALENDAR
