BEGIN:VCALENDAR
VERSION:2.0
PRODID:-//Plone.org//NONSGML plone.app.event//EN
X-WR-TIMEZONE:US/Eastern
BEGIN:VEVENT
SUMMARY:Tykes\, Tales\, & Tunes
DTSTART;TZID=US/Eastern:20240828T103000
DTSTAMP:20260422T151526Z
UID:eb9a14fb15f3437fa57880e822792aa4@saas_stack_varnish:6080
CONTACT:Desirae Salswedel\, (810) 798-3100\, dsalswedel@adlmi.org
CREATED:20240701T163945Z
DESCRIPTION:Story Time with Ms. Des!
LAST-MODIFIED:20240701T164049Z
LOCATION:Almont District Library
URL:https://www.adlmi.org/news-events/tykes-tales-tunes-2/2024-08-28
END:VEVENT
BEGIN:VTIMEZONE
TZID:US/Eastern
X-LIC-LOCATION:US/Eastern
BEGIN:DAYLIGHT
DTSTART:20240310T030000
TZNAME:EDT
TZOFFSETFROM:-0500
TZOFFSETTO:-0400
END:DAYLIGHT
END:VTIMEZONE
END:VCALENDAR
