BEGIN:VCALENDAR
VERSION:2.0
PRODID:-//Plone.org//NONSGML plone.app.event//EN
X-WR-TIMEZONE:US/Eastern
BEGIN:VEVENT
SUMMARY:Tykes\, Tales\, & Tunes
DTSTART;TZID=US/Eastern:20260114T103000
DTSTAMP:20260422T075031Z
UID:eafcd3fbdea4432fbaedc945efa32018@saas_stack_varnish:6080
CONTACT:Desirae Salswedel\, (810) 798-3100\, dsalswedel@adlmi.org
CREATED:20241209T213106Z
DESCRIPTION:Story Time with Ms. Des!
LAST-MODIFIED:20260409T190730Z
LOCATION:Almont District Library
URL:https://www.adlmi.org/news-events/tykes-tales-tunes-4/2026-01-14
END:VEVENT
BEGIN:VTIMEZONE
TZID:US/Eastern
X-LIC-LOCATION:US/Eastern
BEGIN:STANDARD
DTSTART:20251102T010000
TZNAME:EST
TZOFFSETFROM:-0400
TZOFFSETTO:-0500
END:STANDARD
END:VTIMEZONE
END:VCALENDAR
