BEGIN:VCALENDAR
VERSION:2.0
PRODID:-//Plone.org//NONSGML plone.app.event//EN
X-WR-TIMEZONE:US/Eastern
BEGIN:VEVENT
SUMMARY:Tykes\, Tales\, & Tunes
DTSTART;TZID=US/Eastern:20231025T103000
DTSTAMP:20260422T174908Z
UID:467d72c778d647b99e1c65d73db6b273@saas_stack_varnish:6080
CONTACT:Desirae Salswedel\, (810) 798-3100\, dsalswedel@adlmi.org
CREATED:20230912T224714Z
DESCRIPTION:Story Time with Ms. Des!
LAST-MODIFIED:20230912T224728Z
LOCATION:Almont District Library
URL:https://www.adlmi.org/news-events/tykes-tales-tunes/2023-10-25
END:VEVENT
BEGIN:VTIMEZONE
TZID:US/Eastern
X-LIC-LOCATION:US/Eastern
BEGIN:DAYLIGHT
DTSTART:20230312T030000
TZNAME:EDT
TZOFFSETFROM:-0500
TZOFFSETTO:-0400
END:DAYLIGHT
END:VTIMEZONE
END:VCALENDAR
